BEGIN:VCALENDAR
VERSION:2.0
PRODID:-//Gemeinde Ferschweiler - ECPv6.15.20//NONSGML v1.0//EN
CALSCALE:GREGORIAN
METHOD:PUBLISH
X-WR-CALNAME:Gemeinde Ferschweiler
X-ORIGINAL-URL:https://ferschweiler.de
X-WR-CALDESC:Veranstaltungen für Gemeinde Ferschweiler
REFRESH-INTERVAL;VALUE=DURATION:PT1H
X-Robots-Tag:noindex
X-PUBLISHED-TTL:PT1H
BEGIN:VTIMEZONE
TZID:Europe/Berlin
BEGIN:DAYLIGHT
TZOFFSETFROM:+0100
TZOFFSETTO:+0200
TZNAME:CEST
DTSTART:20240331T010000
END:DAYLIGHT
BEGIN:STANDARD
TZOFFSETFROM:+0200
TZOFFSETTO:+0100
TZNAME:CET
DTSTART:20241027T010000
END:STANDARD
BEGIN:DAYLIGHT
TZOFFSETFROM:+0100
TZOFFSETTO:+0200
TZNAME:CEST
DTSTART:20250330T010000
END:DAYLIGHT
BEGIN:STANDARD
TZOFFSETFROM:+0200
TZOFFSETTO:+0100
TZNAME:CET
DTSTART:20251026T010000
END:STANDARD
BEGIN:DAYLIGHT
TZOFFSETFROM:+0100
TZOFFSETTO:+0200
TZNAME:CEST
DTSTART:20260329T010000
END:DAYLIGHT
BEGIN:STANDARD
TZOFFSETFROM:+0200
TZOFFSETTO:+0100
TZNAME:CET
DTSTART:20261025T010000
END:STANDARD
BEGIN:DAYLIGHT
TZOFFSETFROM:+0100
TZOFFSETTO:+0200
TZNAME:CEST
DTSTART:20270328T010000
END:DAYLIGHT
BEGIN:STANDARD
TZOFFSETFROM:+0200
TZOFFSETTO:+0100
TZNAME:CET
DTSTART:20271031T010000
END:STANDARD
END:VTIMEZONE
BEGIN:VEVENT
DTSTART;TZID=Europe/Berlin:20260418T201100
DTEND;TZID=Europe/Berlin:20260418T235900
DTSTAMP:20260420T142754
CREATED:20260412T133053Z
LAST-MODIFIED:20260413T113713Z
UID:5412-1776543060-1776556740@ferschweiler.de
SUMMARY:Tanz vorm Mai
DESCRIPTION:TANZ VORM MAI 💙 \nEine bunt geschmückte Josef-Hoor-Halle\, bunt verkleidete Menschen\, leckere Getränke\, geile Tänze\, Karnevalsfeeling\, ausgelassenen Stimmung und Liveband. ✨️🎉
URL:https://ferschweiler.de/veranstaltung/tanz-vorm-mai/
LOCATION:Josef-Hoor-Halle\, Laeisenhofer Straße 17\, Ferschweiler\, Rheinland-Pfalz\, 54668\, Germany
CATEGORIES:KV Plateau-Narren
ATTACH;FMTTYPE=image/jpeg:https://ferschweiler.de/wp-content/uploads/2026/04/WhatsApp-Image-2026-04-08-at-13.15.42.jpeg
END:VEVENT
BEGIN:VEVENT
DTSTART;TZID=Europe/Berlin:20251011T130000
DTEND;TZID=Europe/Berlin:20251011T235900
DTSTAMP:20260420T142754
CREATED:20250922T203330Z
LAST-MODIFIED:20250922T204712Z
UID:5296-1760187600-1760227140@ferschweiler.de
SUMMARY:Helfertag & Generalversammlung
DESCRIPTION:13:00 Uhr | Generalversammlung für alle Mitglieder \n14:00 Uhr | Helfertag für alle Helfer und Aktiven der Session 2024/2025
URL:https://ferschweiler.de/veranstaltung/helfertag-generalversammlung/
LOCATION:Gemeindehaus
END:VEVENT
END:VCALENDAR